BEGIN:VCALENDAR
VERSION:2.0
PRODID:-//Home Brewers of Greater Bangor - ECPv6.15.20//NONSGML v1.0//EN
CALSCALE:GREGORIAN
METHOD:PUBLISH
X-WR-CALNAME:Home Brewers of Greater Bangor
X-ORIGINAL-URL:https://homebrewersofgreaterbangor.com
X-WR-CALDESC:Events for Home Brewers of Greater Bangor
REFRESH-INTERVAL;VALUE=DURATION:PT1H
X-Robots-Tag:noindex
X-PUBLISHED-TTL:PT1H
BEGIN:VTIMEZONE
TZID:America/New_York
BEGIN:DAYLIGHT
TZOFFSETFROM:-0500
TZOFFSETTO:-0400
TZNAME:EDT
DTSTART:20250309T070000
END:DAYLIGHT
BEGIN:STANDARD
TZOFFSETFROM:-0400
TZOFFSETTO:-0500
TZNAME:EST
DTSTART:20251102T060000
END:STANDARD
BEGIN:DAYLIGHT
TZOFFSETFROM:-0500
TZOFFSETTO:-0400
TZNAME:EDT
DTSTART:20260308T070000
END:DAYLIGHT
BEGIN:STANDARD
TZOFFSETFROM:-0400
TZOFFSETTO:-0500
TZNAME:EST
DTSTART:20261101T060000
END:STANDARD
BEGIN:DAYLIGHT
TZOFFSETFROM:-0500
TZOFFSETTO:-0400
TZNAME:EDT
DTSTART:20270314T070000
END:DAYLIGHT
BEGIN:STANDARD
TZOFFSETFROM:-0400
TZOFFSETTO:-0500
TZNAME:EST
DTSTART:20271107T060000
END:STANDARD
END:VTIMEZONE
BEGIN:VEVENT
DTSTART;TZID=America/New_York:20260314T150000
DTEND;TZID=America/New_York:20260314T170000
DTSTAMP:20260424T080643
CREATED:20260217T175440Z
LAST-MODIFIED:20260217T175440Z
UID:306-1773500400-1773507600@homebrewersofgreaterbangor.com
SUMMARY:March Meeting.
DESCRIPTION:March meeting at Maineport Brewing Company in Searsport.
URL:https://homebrewersofgreaterbangor.com/event/march-meeting/
LOCATION:Maineport Brewing Company\, 34 E Main St\, Searsport\, ME\, 04974\, United States
END:VEVENT
END:VCALENDAR